BEGIN:VCALENDAR
VERSION:2.0
PRODID:-//PXL Stem Academy - ECPv6.15.20//NONSGML v1.0//EN
CALSCALE:GREGORIAN
METHOD:PUBLISH
X-ORIGINAL-URL:https://www.pxl-stem-academy.be
X-WR-CALDESC:Evenementen voor PXL Stem Academy
REFRESH-INTERVAL;VALUE=DURATION:PT1H
X-Robots-Tag:noindex
X-PUBLISHED-TTL:PT1H
BEGIN:VTIMEZONE
TZID:Europe/Brussels
BEGIN:DAYLIGHT
TZOFFSETFROM:+0100
TZOFFSETTO:+0200
TZNAME:CEST
DTSTART:20200329T010000
END:DAYLIGHT
BEGIN:STANDARD
TZOFFSETFROM:+0200
TZOFFSETTO:+0100
TZNAME:CET
DTSTART:20201025T010000
END:STANDARD
BEGIN:DAYLIGHT
TZOFFSETFROM:+0100
TZOFFSETTO:+0200
TZNAME:CEST
DTSTART:20210328T010000
END:DAYLIGHT
BEGIN:STANDARD
TZOFFSETFROM:+0200
TZOFFSETTO:+0100
TZNAME:CET
DTSTART:20211031T010000
END:STANDARD
BEGIN:DAYLIGHT
TZOFFSETFROM:+0100
TZOFFSETTO:+0200
TZNAME:CEST
DTSTART:20220327T010000
END:DAYLIGHT
BEGIN:STANDARD
TZOFFSETFROM:+0200
TZOFFSETTO:+0100
TZNAME:CET
DTSTART:20221030T010000
END:STANDARD
END:VTIMEZONE
BEGIN:VEVENT
DTSTART;TZID=Europe/Brussels:20211103T130000
DTEND;TZID=Europe/Brussels:20211105T160000
DTSTAMP:20260422T121540
CREATED:20210521T092003Z
LAST-MODIFIED:20211214T123528Z
UID:2845-1635944400-1636128000@www.pxl-stem-academy.be
SUMMARY:Junior programmeur  8-10 jaar  Provinciale school Diepenbeek
DESCRIPTION:Zot van drones? Gepassioneerd door robots?\nWil jij ontdekken en onderzoeken hoe je een robot of een drone kan besturen en kan programmeren? Ben je benieuwd naar de verschillende mogelijkheden? Kan je niet wachten om te starten? Schrijf je dan snel in! \nWorkshop in opdracht van de Provinciale School Diepenbeek.
URL:https://www.pxl-stem-academy.be/event/junior-programmeur-8-10-jaar-provinciale-school-diepenbeek/
LOCATION:Stationsstraat 36\, Diepenbeek\, stationsstraat 36\, Diepenbeek\, Diepenbeek\, Limburg\, 3590
CATEGORIES:Vakantie
ORGANIZER;CN="Provinciale School Diepenbeek":MAILTO:https://www.pmdiepenbeek.be/nl/contact
END:VEVENT
END:VCALENDAR