BEGIN:VCALENDAR
VERSION:2.0
PRODID:-//PXL Stem Academy - ECPv6.15.20//NONSGML v1.0//EN
CALSCALE:GREGORIAN
METHOD:PUBLISH
X-WR-CALNAME:PXL Stem Academy
X-ORIGINAL-URL:https://www.pxl-stem-academy.be
X-WR-CALDESC:Evenementen voor PXL Stem Academy
REFRESH-INTERVAL;VALUE=DURATION:PT1H
X-Robots-Tag:noindex
X-PUBLISHED-TTL:PT1H
BEGIN:VTIMEZONE
TZID:Europe/Brussels
BEGIN:DAYLIGHT
TZOFFSETFROM:+0100
TZOFFSETTO:+0200
TZNAME:CEST
DTSTART:20250330T010000
END:DAYLIGHT
BEGIN:STANDARD
TZOFFSETFROM:+0200
TZOFFSETTO:+0100
TZNAME:CET
DTSTART:20251026T010000
END:STANDARD
BEGIN:DAYLIGHT
TZOFFSETFROM:+0100
TZOFFSETTO:+0200
TZNAME:CEST
DTSTART:20260329T010000
END:DAYLIGHT
BEGIN:STANDARD
TZOFFSETFROM:+0200
TZOFFSETTO:+0100
TZNAME:CET
DTSTART:20261025T010000
END:STANDARD
BEGIN:DAYLIGHT
TZOFFSETFROM:+0100
TZOFFSETTO:+0200
TZNAME:CEST
DTSTART:20270328T010000
END:DAYLIGHT
BEGIN:STANDARD
TZOFFSETFROM:+0200
TZOFFSETTO:+0100
TZNAME:CET
DTSTART:20271031T010000
END:STANDARD
END:VTIMEZONE
BEGIN:VEVENT
DTSTART;TZID=Europe/Brussels:20260817T090000
DTEND;TZID=Europe/Brussels:20260821T153000
DTSTAMP:20260422T132616
CREATED:20251125T124938Z
LAST-MODIFIED:20260205T071127Z
UID:12191-1786957200-1787326200@www.pxl-stem-academy.be
SUMMARY:Zomervakantie 26 | Bouwrakkers in samenwerking met Embuild Limburg  7 - 9 jaar wk8
DESCRIPTION:Bouwrakkerskampen! 🛠️👷‍♂️🧱 \nWil jij op een speelse manier kennismaken met de bouw? Rol dan je mouwen op\, want in deze workshops gaan we écht aan de slag! Je leert muren metsen\, vloeren betegelen\, daken bedekken en klinkers leggen. Bouwen was nog nooit zo leuk! \n🔨 Wat kun je verwachten?\nTijdens onze bouwkampen kun je rekenen op afwisselende workshops. Of je nu voor de eerste\, tweede of derde keer meedoet\, we zorgen altijd voor nieuwe uitdagingen en opdrachten om je vaardigheden te laten groeien. \n🪚 Alles leren over bouwen!\nVan elektriciteit tot houtbewerking en sanitair—elke editie van het Bouwrakkerskamp biedt unieke praktijkoefeningen om je kennis steeds verder uit te breiden. \nBekijk alvast wat sfeerbeelden in deze video: https://www.youtube.com/watch?v=ZOXZ1DcUytw \n📐 Samen bouwen aan skills!\nSamen met Embuild Limburg hebben we een programma samengesteld dat teamwork\, creativiteit en technische kennis bevordert. Een geweldige kans om echt hands-on te leren in de wereld van bouw en constructie! \nMeer weten? Ontdek alles over onze Bouwrakkerskampen hier: https://embuildlimburg.be/nl/projecten-werkgroepen/bouwrakker \nDoor onze samenwerking met Embuild Limburg is er opvang voorzien van 08:00 tot 17:00. \nDe bouw kijkt verder
URL:https://www.pxl-stem-academy.be/event/zomervakantie-26-bouwrakkers-in-samenwerking-met-embuild-limburg-7-9-jaar-wk8/
LOCATION:PXL STEM Academy\, Kempische Kaai 85\, Hasselt\, Limburg\, 3500\, België
CATEGORIES:Vakantie
ATTACH;FMTTYPE=image/jpeg:https://www.pxl-stem-academy.be/wp-content/uploads/2024/12/Krokus-Bouwrakker.jpg
ORGANIZER;CN="PXL Stem Academy":MAILTO:stem-academy@pxl.be
END:VEVENT
BEGIN:VEVENT
DTSTART;TZID=Europe/Brussels:20260817T090000
DTEND;TZID=Europe/Brussels:20260821T153000
DTSTAMP:20260422T132616
CREATED:20251125T140053Z
LAST-MODIFIED:20251125T140053Z
UID:12202-1786957200-1787326200@www.pxl-stem-academy.be
SUMMARY:Zomervakantie 26| STEMmix in 't Engels (9-14) WK8
DESCRIPTION:🌍🔬 STEMmix in ’t Engels! 🔬🌍 \nWist je dat Engels dé taal is in het STEM-vakgebied? Daarom gaan we tijdens dit kamp alles op een speelse en interactieve manier in het Engels doen! 🎉 \n💻 Wat gaan we doen?\nProgrammeren\, 3D-printen en lasercutten – alles is in het Engels! Zo leer je niet alleen technische vaardigheden\, maar verbeter je ook je Engels op een superleuke manier! 🛠️✨ \n📚 Voor wie?\nHeb jij een talenknobbel? Of wil je graag Engels leren door actief mee te doen? Dit kamp is perfect voor iedereen die op een creatieve manier Engels wil leren! \n💥 Schrijf je snel in voor dit onvergetelijke superSTEM-kamp en ontdek de wereld van technologie én taal! \nSTEM (Science\, Technology\, Engineering en Mathematics) \nEr is geen opvang voor of na het kamp\, met uitzondering van de Bouwrakkerskampen\, waar opvang wél voorzien is. Bedankt om hiermee rekening te houden!”
URL:https://www.pxl-stem-academy.be/event/zomervakantie-26-stemmix-in-t-engels-9-14-wk8/
LOCATION:PXL STEM Academy\, Kempische Kaai 85\, Hasselt\, Limburg\, 3500\, België
CATEGORIES:Vakantie
ATTACH;FMTTYPE=image/png:https://www.pxl-stem-academy.be/wp-content/uploads/2024/11/StemenEngels.png
ORGANIZER;CN="PXL Stem Academy":MAILTO:stem-academy@pxl.be
END:VEVENT
BEGIN:VEVENT
DTSTART;TZID=Europe/Brussels:20260817T090000
DTEND;TZID=Europe/Brussels:20260821T153000
DTSTAMP:20260422T132616
CREATED:20260414T142442Z
LAST-MODIFIED:20260416T120211Z
UID:13255-1786957200-1787326200@www.pxl-stem-academy.be
SUMMARY:Zomervakantie 26| STEM MIX (7-10) Pelt (Leerecosysteem Hennig op Weg)
DESCRIPTION:Tijdens het kamp STEM MIX programmeren we LEGO-robots 🤖\, vliegen we met drones door zelfgemaakte parcours en toveren we alledaagse voorwerpen om tot videogame-controllers 🎮 met Makey Makey. Een supergevarieerde week vol actie en techniek 🔧 waar jonge makers de coolste innovaties zelf ontdekken!” \nDit kamp vindt plaats op de SyntraPXL campus in Pelt: Hoekstraat 70\, 3910 Pelt \nSTEM (Science\, Technology\, Engineering\, Mathematics) van wetenschappen tot techniek. \nDeze activiteit kadert in het Leerecosysteem Hennig op Weg  \nMedefinanciering van Europa WSE.
URL:https://www.pxl-stem-academy.be/event/zomervakantie-26-stem-mix-7-10-pelt-leerecosysteem-hennig-op-weg/
LOCATION:PXL STEM Academy\, Kempische Kaai 85\, Hasselt\, Limburg\, 3500\, België
CATEGORIES:Vakantie
ATTACH;FMTTYPE=image/jpeg:https://www.pxl-stem-academy.be/wp-content/uploads/2026/04/Pelt_STEMMIX-met-witte-boord.jpg
END:VEVENT
BEGIN:VEVENT
DTSTART;TZID=Europe/Brussels:20260824T090000
DTEND;TZID=Europe/Brussels:20260828T153000
DTSTAMP:20260422T132616
CREATED:20251125T142312Z
LAST-MODIFIED:20251212T122806Z
UID:12212-1787562000-1787931000@www.pxl-stem-academy.be
SUMMARY:Zomervakantie 26| STEM voor kleuters (4-6): Handige Handjes WK9
DESCRIPTION:👋 Handige Handjes Kamp 👋\n🎉 Voor kleine makers met grote ideeën! 🎉 \nIs jouw kleuter gek op ontdekken\, bouwen en nieuwe dingen proberen? Bij Handige Handjes leren kinderen op speelse wijze allerlei nieuwe vaardigheden en ontdekken ze de wereld van techniek en creativiteit! 🌈 \n🔧 Wat gaan we doen?\nWe hebben een week vol spannende activiteiten voor de kleine makers: \n🤖 Spelen met kleine robots – Spelenderwijs ontdekken we de basis van programmeren door opdrachten te geven aan kleine\, vriendelijke robots! De kleuters leren eenvoudige instructies geven\, waardoor de robots bewegen en reageren op hun commando’s. Zo maken we van leren een echt avontuur! \n🔨 Hamer en spijker projecten – De kleuters gaan ook écht aan de slag met hamers en spijkers (uiteraard veilig en onder begeleiding!). Samen maken we een mooie creatie waar ze trots op kunnen zijn! 🎨🪚 \n👫 Samenwerken & ontdekken – Bij Handige Handjes maken de kinderen niet alleen iets moois\, maar werken ze samen en helpen elkaar. We zorgen voor een veilige\, gezellige en leerzame omgeving waar ze met plezier ontdekken en creëren! \nLaat jouw kleine ontdekker meedoen aan Handige Handjes en laat ze ervaren hoe geweldig het is om iets met hun eigen handen en slimme robots te maken! 🛠️🤖✨ \nSTEM (Science\, Technology\, Engineering\, Mathematics) van wetenschappen tot techniek. \n“Er is geen opvang voor of na het kamp\, met uitzondering van de Bouwrakkerskampen\, waar opvang wél voorzien is. Bedankt om hiermee rekening te houden!”
URL:https://www.pxl-stem-academy.be/event/zomervakantie-26-stem-voor-kleuters-4-6-handige-handjes-wk9/
LOCATION:PXL STEM Academy\, Kempische Kaai 85\, Hasselt\, Limburg\, 3500\, België
CATEGORIES:Vakantie
ATTACH;FMTTYPE=image/jpeg:https://www.pxl-stem-academy.be/wp-content/uploads/2025/11/HandigeHandjes.jpg
ORGANIZER;CN="PXL Stem Academy":MAILTO:stem-academy@pxl.be
END:VEVENT
BEGIN:VEVENT
DTSTART;TZID=Europe/Brussels:20260824T090000
DTEND;TZID=Europe/Brussels:20260828T153000
DTSTAMP:20260422T132616
CREATED:20251125T143036Z
LAST-MODIFIED:20260205T071900Z
UID:12215-1787562000-1787931000@www.pxl-stem-academy.be
SUMMARY:Zomervakantie 26 | Bouwrakkers in samenwerking met Embuild Limburg  10 - 16 jaar WK9
DESCRIPTION:Bouwrakkerskampen! 🛠️👷‍♂️🧱 \nWil jij op een speelse manier kennismaken met de bouw? Rol dan je mouwen op\, want in deze workshops gaan we écht aan de slag! Je leert muren metsen\, vloeren betegelen\, daken bedekken en klinkers leggen. Bouwen was nog nooit zo leuk! \n🔨 Wat kun je verwachten?\nTijdens onze bouwkampen kun je rekenen op afwisselende workshops. Of je nu voor de eerste\, tweede of derde keer meedoet\, we zorgen altijd voor nieuwe uitdagingen en opdrachten om je vaardigheden te laten groeien. \n🪚 Alles leren over bouwen!\nVan elektriciteit tot houtbewerking en sanitair—elke editie van het Bouwrakkerskamp biedt unieke praktijkoefeningen om je kennis steeds verder uit te breiden. \nBekijk alvast wat sfeerbeelden in deze video: https://www.youtube.com/watch?v=ZOXZ1DcUytw \n📐 Samen bouwen aan skills!\nSamen met Embuild Limburg hebben we een programma samengesteld dat teamwork\, creativiteit en technische kennis bevordert. Een geweldige kans om echt hands-on te leren in de wereld van bouw en constructie! \nMeer weten? Ontdek alles over onze Bouwrakkerskampen hier: https://embuildlimburg.be/nl/projecten-werkgroepen/bouwrakker \nDoor onze samenwerking met Embuild Limburg is er opvang voorzien van 08:00 tot 17:00. \nDe bouw kijkt verder
URL:https://www.pxl-stem-academy.be/event/samenwerking-met-embuild-limburg-10-14-jaar-wk9/
LOCATION:PXL STEM Academy\, Kempische Kaai 85\, Hasselt\, Limburg\, 3500\, België
CATEGORIES:Vakantie
ATTACH;FMTTYPE=image/jpeg:https://www.pxl-stem-academy.be/wp-content/uploads/2024/12/Krokus-Bouwrakker.jpg
ORGANIZER;CN="PXL Stem Academy":MAILTO:stem-academy@pxl.be
END:VEVENT
BEGIN:VEVENT
DTSTART;TZID=Europe/Brussels:20260824T090000
DTEND;TZID=Europe/Brussels:20260828T153000
DTSTAMP:20260422T132616
CREATED:20251125T145107Z
LAST-MODIFIED:20260205T071713Z
UID:12219-1787562000-1787931000@www.pxl-stem-academy.be
SUMMARY:Zomervakantie 26 | Bouwrakkers in samenwerking met Embuild Limburg  7 - 9 jaar wk9
DESCRIPTION:Bouwrakkerskampen! 🛠️👷‍♂️🧱 \nWil jij op een speelse manier kennismaken met de bouw? Rol dan je mouwen op\, want in deze workshops gaan we écht aan de slag! Je leert muren metsen\, vloeren betegelen\, daken bedekken en klinkers leggen. Bouwen was nog nooit zo leuk! \n🔨 Wat kun je verwachten?\nTijdens onze bouwkampen kun je rekenen op afwisselende workshops. Of je nu voor de eerste\, tweede of derde keer meedoet\, we zorgen altijd voor nieuwe uitdagingen en opdrachten om je vaardigheden te laten groeien. \n🪚 Alles leren over bouwen!\nVan elektriciteit tot houtbewerking en sanitair—elke editie van het Bouwrakkerskamp biedt unieke praktijkoefeningen om je kennis steeds verder uit te breiden. \nBekijk alvast wat sfeerbeelden in deze video: https://www.youtube.com/watch?v=ZOXZ1DcUytw \n📐 Samen bouwen aan skills!\nSamen met Embuild Limburg hebben we een programma samengesteld dat teamwork\, creativiteit en technische kennis bevordert. Een geweldige kans om echt hands-on te leren in de wereld van bouw en constructie! \nMeer weten? Ontdek alles over onze Bouwrakkerskampen hier: https://embuildlimburg.be/nl/projecten-werkgroepen/bouwrakker \nDoor onze samenwerking met Embuild Limburg is er opvang voorzien van 08:00 tot 17:00. \nDe bouw kijkt verder
URL:https://www.pxl-stem-academy.be/event/zomervakantie-26-bouwrakkers-in-samenwerking-met-embuild-limburg-7-9-jaar-wk9/
LOCATION:PXL STEM Academy\, Kempische Kaai 85\, Hasselt\, Limburg\, 3500\, België
CATEGORIES:Vakantie
ATTACH;FMTTYPE=image/jpeg:https://www.pxl-stem-academy.be/wp-content/uploads/2024/12/Krokus-Bouwrakker.jpg
ORGANIZER;CN="PXL Stem Academy":MAILTO:stem-academy@pxl.be
END:VEVENT
BEGIN:VEVENT
DTSTART;TZID=Europe/Brussels:20260824T090000
DTEND;TZID=Europe/Brussels:20260828T153000
DTSTAMP:20260422T132616
CREATED:20260417T082730Z
LAST-MODIFIED:20260417T132150Z
UID:13284-1787562000-1787931000@www.pxl-stem-academy.be
SUMMARY:Zomervakantie 2026 Makers & Energie – samen met CleanTechPunt & Makerspace PXL/UHasselt   8-16
DESCRIPTION:Makers & Energie – samen met CleanTechPunt \n\nZin in een zomerkamp waar creativiteit\, technologie én duurzaamheid samenkomen?\nTijdens dit kamp ontdekken jongeren op een actieve en praktijkgerichte manier de wereld van STEM\, hernieuwbare energie en de indrukwekkende machines van de Makerspace PXL/UHasselt — in samenwerking met CleanTechPunt. \nIn de Makerspace gaan de deelnemers zélf aan de slag: bedenken\, ontwerpen\, bouwen en experimenteren met echte tools en machines zoals 3D‑printers\, lasercutters\, en meer. Door speelse maakopdrachten leren ze niet alleen hoe technologie werkt\, maar ook hoe die kan bijdragen aan een duurzame toekomst. \n🔧 Wat mag je verwachten?\n\nkennismaking met STEM & hernieuwbare energie\nexperimenten rond technologie en duurzaamheid\nwerken met lasercutting\, 3D‑printing en andere makerspace‑technieken\nvan programmeren tot handvaardigheden\nen als kers op de taart: het ontwerpen én bedrukken van je eigen T‑shirt 👕✨\n\nDe eerste dag breng je een nieuwe\, effen T‑shirt mee — de rest van het creatieve proces doen wij samen! \n🌱 Leren door te doen\nHet kamp combineert theorie\, experimenten en praktijkopdrachten in een boeiend leertraject waarin jongeren spelenderwijs hun STEM‑vaardigheden\, creativiteit en duurzaamheidsbewustzijn versterken. \nKortom:\n👉 Maken\, ontdekken\, experimenteren én trots naar huis gaan met je eigen creaties. \nIdeaal voor nieuwsgierige makers die graag hun handen uit de mouwen steken en de toekomst willen ontdekken! 🚀
URL:https://www.pxl-stem-academy.be/event/zomervakantie-2026-makers-energie-samen-met-cleantechpunt-makerspace-pxl-uhasselt-8-16/
LOCATION:Makerspace (PXL/UHasselt\, Diepenbeek)\, Universitaire Campus – Agoralaan – Gebouw H\, Diepenbeek\, 3590
CATEGORIES:Vakantie
ATTACH;FMTTYPE=image/jpeg:https://www.pxl-stem-academy.be/wp-content/uploads/2026/04/makerspace-en-CTP.jpg
END:VEVENT
BEGIN:VEVENT
DTSTART;TZID=Europe/Brussels:20261102T090000
DTEND;TZID=Europe/Brussels:20261106T153000
DTSTAMP:20260422T132616
CREATED:20251125T151644Z
LAST-MODIFIED:20251125T151644Z
UID:12225-1793610000-1793979000@www.pxl-stem-academy.be
SUMMARY:Herfstvakantie 26 | "STEM voor kleuters: De griezelfabriek" (Kleuter & 1e leerjaar) vanaf 4 jaar - 6 jaar
DESCRIPTION:👻 **Griezelfabriek Kamp** 👻\n✨ Voor kleine durfallen met grote fantasie! ✨ \nIs jouw kleuter gek op spannende verhalen\, monsters en het ontdekken van mysterieuze dingen? Bij het **Griezelfabriek Kamp** dompelen we ons onder in een wereld vol griezelplezier en avontuur! 🕸️🎃 \n🔹 **Wat gaan we doen?** \n🎩 **Reis door het spookkasteel** – Samen verkennen we een denkbeeldig kasteel vol spannende verrassingen! De kleuters leren over grappige spoken\, gekke monsters en andere mysterieuze wezens. We maken onze eigen griezeloutfits en ontdekken hoe het is om een echte griezelspeurneus te zijn! 🏰👻 \n🤖 **Programmeren van onze eigen griezel-robot** – Op een speelse\, leerrijke manier leren de kleuters een griezel-robot besturen! Door simpele opdrachten te geven\, ontdekken ze de basis van programmeren en laten ze hun robot bewegen door ons ‘spookhuis’. Spannend én leerzaam! 👹🕹️ \n🎨 **Griezelige creaties maken** – De kleuters mogen hun eigen griezelige creaties bouwen\, zoals glow-in-the-dark monsters\, vampiertanden en spookachtige lichtjes. Zo hebben ze iets unieks om mee naar huis te nemen! 🕷️✨ \n🌍 **Samenwerken en ontdekken** – Samen leren we over vriendschap\, moed en teamwork terwijl we deze griezelwereld ontdekken. We spelen samen\, helpen elkaar en maken veel plezier in een gezellige\, veilige omgeving. 🧛‍♂️🤝 \nLaat jouw kleine griezelfan meedoen aan het **Griezelfabriek Kamp** en geef ze een onvergetelijke ervaring vol spannende verhalen\, monsters\, en hun eigen griezel-robot! 🎃👻✨ \nSTEM (science\, technology\, engineering\, mathematics) van wetenschappen tot techniek. \nEr is geen opvang voor of na het kamp\, met uitzondering van de Bouwrakkerskampen\, waar opvang wél voorzien is. Bedankt om hiermee rekening te houden!”
URL:https://www.pxl-stem-academy.be/event/herfstvakantie-26-stem-voor-kleuters-de-griezelfabriek-kleuter-1e-leerjaar-vanaf-4-jaar-6-jaar/
LOCATION:PXL STEM Academy\, Kempische Kaai 85\, Hasselt\, Limburg\, 3500\, België
CATEGORIES:Vakantie
ATTACH;FMTTYPE=image/jpeg:https://www.pxl-stem-academy.be/wp-content/uploads/2024/12/Griezelfabriek.jpg
ORGANIZER;CN="PXL Stem Academy":MAILTO:stem-academy@pxl.be
END:VEVENT
BEGIN:VEVENT
DTSTART;TZID=Europe/Brussels:20261102T090000
DTEND;TZID=Europe/Brussels:20261106T153000
DTSTAMP:20260422T132616
CREATED:20251125T153341Z
LAST-MODIFIED:20260112T101403Z
UID:12229-1793610000-1793979000@www.pxl-stem-academy.be
SUMMARY:Herfstvakantie 26 | Bouwrakkers in samenwerking met Embuild Limburg  7 - 14 jaar
DESCRIPTION:Bouwrakkerskampen! 🛠️👷‍♂️🧱 \nWil jij op een speelse manier kennismaken met de bouw? Rol dan je mouwen op\, want in deze workshops gaan we écht aan de slag! Je leert muren metsen\, vloeren betegelen\, daken bedekken en klinkers leggen. Bouwen was nog nooit zo leuk! \n🔨 Wat kun je verwachten?\nTijdens onze bouwkampen kun je rekenen op afwisselende workshops. Of je nu voor de eerste\, tweede of derde keer meedoet\, we zorgen altijd voor nieuwe uitdagingen en opdrachten om je vaardigheden te laten groeien. \n🪚 Alles leren over bouwen!\nVan elektriciteit tot houtbewerking en sanitair—elke editie van het Bouwrakkerskamp biedt unieke praktijkoefeningen om je kennis steeds verder uit te breiden. \nBekijk alvast wat sfeerbeelden in deze video: https://www.youtube.com/watch?v=ZOXZ1DcUytw \n📐 Samen bouwen aan skills!\nSamen met Embuild Limburg hebben we een programma samengesteld dat teamwork\, creativiteit en technische kennis bevordert. Een geweldige kans om echt hands-on te leren in de wereld van bouw en constructie! \nMeer weten? Ontdek alles over onze Bouwrakkerskampen hier: https://embuildlimburg.be/nl/projecten-werkgroepen/bouwrakker \nDoor onze samenwerking met Embuild Limburg is er opvang voorzien van 08:00 tot 17:00. \nDe bouw kijkt verder
URL:https://www.pxl-stem-academy.be/event/herfstvakantie-26-bouwrakkers-in-samenwerking-met-embuild-limburg-7-14-jaar/
LOCATION:PXL STEM Academy\, Kempische Kaai 85\, Hasselt\, Limburg\, 3500\, België
CATEGORIES:Vakantie
ATTACH;FMTTYPE=image/jpeg:https://www.pxl-stem-academy.be/wp-content/uploads/2024/12/Krokus-Bouwrakker.jpg
ORGANIZER;CN="PXL Stem Academy":MAILTO:stem-academy@pxl.be
END:VEVENT
BEGIN:VEVENT
DTSTART;TZID=Europe/Brussels:20261102T090000
DTEND;TZID=Europe/Brussels:20261106T153000
DTSTAMP:20260422T132616
CREATED:20251125T161321Z
LAST-MODIFIED:20260417T062606Z
UID:12235-1793610000-1793979000@www.pxl-stem-academy.be
SUMMARY:Herfstvakantie 26 | STEAM Ontdekkers – Het kamp waar nieuwsgierige kids groeien! Samenwerking Makerspace PXL/UHasselt & CleanTechPunt(7-14j)
DESCRIPTION:STEAM Ontdekkers – Het kamp waar nieuwsgierige kids groeien! In samenwerking met CleanTechPunt🌟 \nCleanTechPunt en PXL STEM-Academy  nemen jouw kind mee op een unieke ontdekkingsreis door de 5 STEAM-domeinen. \nScience\, Technology\, Engineering\, Arts & Mathematics komen tot leven in een speels\, creatief en superboeiend kamp voor kinderen van 7 tot 12 jaar. Vijf dagen vol plezier\, uitdaging en verwondering (ma–vr\, 9u–15u30)! \n🌱 Nieuw & helemaal van nu: duurzaamheid! \nKinderen ontdekken hoe ze zélf kleine uitvinders kunnen worden voor een betere wereld.\nZe bouwen hun eigen windmeter en pluviometer\, experimenteren met zonne- en windenergie\, en leren hoe water gezuiverd wordt.\nSpeels\, eenvoudig en verrassend — maar vooral: wauw\, kan ík dat maken? \n🔧 Een kamp vol actie en creativiteit \nElke dag brengt nieuwe experimenten en uitdagingen. Deelnemers gaan: \n\nErvaren en maken\nexperimenteren met elektriciteit\ncreatieve puzzels en uitdagingen oplossen\ntechniek combineren met kunst\nsamenwerken\, proberen\, falen en opnieuw proberen\n\nHier ontdek je niet alleen hoe iets werkt\, maar vooral hoe leuk het is om het zelf te maken. \n🚀 Waarom kiezen voor STEAM Ontdekkers? \n✔ ideaal voor nieuwsgierige doeners\n✔ hands-on leren in een veilige en inspirerende omgeving\n✔ mix van fun\, wetenschap én creativiteit\n✔ kinderen versterken hun zelfvertrouwen én probleemoplossend denken\n✔ volledig toekomstgericht dankzij het duurzaamheidsluik \nKortom: hét kamp voor kleine uitvinders\, nieuwsgierige geesten en grote dromers.\nWees er snel bij — plaatsen zijn beperkt! \nDit is een kamp met steun van VLAIO. \nMakerspace PXL/UHasselt (3590\, Diepenbeek) & PXL STEM-Academy (3500\, Hasselt)\n  \n“Er is geen opvang voor of na het kamp\, met uitzondering van de Bouwrakkerskampen\, waar opvang wél voorzien is. Bedankt om hiermee rekening te houden!”
URL:https://www.pxl-stem-academy.be/event/herfstvakantie-26-steam-ontdekkers-het-kamp-waar-nieuwsgierige-kids-groeien-samenwerking-makerspace-pxl-uhasselt-met-cleantechpunt/
LOCATION:PXL STEM Academy\, Kempische Kaai 85\, Hasselt\, Limburg\, 3500\, België
CATEGORIES:Vakantie
ATTACH;FMTTYPE=image/jpeg:https://www.pxl-stem-academy.be/wp-content/uploads/2025/11/CTP-herfst-2.jpg
ORGANIZER;CN="PXL Stem Academy":MAILTO:stem-academy@pxl.be
END:VEVENT
END:VCALENDAR