BEGIN:VCALENDAR
VERSION:2.0
PRODID:-//PXL Stem Academy - ECPv6.15.20//NONSGML v1.0//EN
CALSCALE:GREGORIAN
METHOD:PUBLISH
X-ORIGINAL-URL:https://www.pxl-stem-academy.be
X-WR-CALDESC:Evenementen voor PXL Stem Academy
REFRESH-INTERVAL;VALUE=DURATION:PT1H
X-Robots-Tag:noindex
X-PUBLISHED-TTL:PT1H
BEGIN:VTIMEZONE
TZID:Europe/Brussels
BEGIN:DAYLIGHT
TZOFFSETFROM:+0100
TZOFFSETTO:+0200
TZNAME:CEST
DTSTART:20250330T010000
END:DAYLIGHT
BEGIN:STANDARD
TZOFFSETFROM:+0200
TZOFFSETTO:+0100
TZNAME:CET
DTSTART:20251026T010000
END:STANDARD
BEGIN:DAYLIGHT
TZOFFSETFROM:+0100
TZOFFSETTO:+0200
TZNAME:CEST
DTSTART:20260329T010000
END:DAYLIGHT
BEGIN:STANDARD
TZOFFSETFROM:+0200
TZOFFSETTO:+0100
TZNAME:CET
DTSTART:20261025T010000
END:STANDARD
BEGIN:DAYLIGHT
TZOFFSETFROM:+0100
TZOFFSETTO:+0200
TZNAME:CEST
DTSTART:20270328T010000
END:DAYLIGHT
BEGIN:STANDARD
TZOFFSETFROM:+0200
TZOFFSETTO:+0100
TZNAME:CET
DTSTART:20271031T010000
END:STANDARD
END:VTIMEZONE
BEGIN:VEVENT
DTSTART;TZID=Europe/Brussels:20261102T090000
DTEND;TZID=Europe/Brussels:20261106T153000
DTSTAMP:20260422T003315
CREATED:20251125T151644Z
LAST-MODIFIED:20251125T151644Z
UID:12225-1793610000-1793979000@www.pxl-stem-academy.be
SUMMARY:Herfstvakantie 26 | "STEM voor kleuters: De griezelfabriek" (Kleuter & 1e leerjaar) vanaf 4 jaar - 6 jaar
DESCRIPTION:👻 **Griezelfabriek Kamp** 👻\n✨ Voor kleine durfallen met grote fantasie! ✨ \nIs jouw kleuter gek op spannende verhalen\, monsters en het ontdekken van mysterieuze dingen? Bij het **Griezelfabriek Kamp** dompelen we ons onder in een wereld vol griezelplezier en avontuur! 🕸️🎃 \n🔹 **Wat gaan we doen?** \n🎩 **Reis door het spookkasteel** – Samen verkennen we een denkbeeldig kasteel vol spannende verrassingen! De kleuters leren over grappige spoken\, gekke monsters en andere mysterieuze wezens. We maken onze eigen griezeloutfits en ontdekken hoe het is om een echte griezelspeurneus te zijn! 🏰👻 \n🤖 **Programmeren van onze eigen griezel-robot** – Op een speelse\, leerrijke manier leren de kleuters een griezel-robot besturen! Door simpele opdrachten te geven\, ontdekken ze de basis van programmeren en laten ze hun robot bewegen door ons ‘spookhuis’. Spannend én leerzaam! 👹🕹️ \n🎨 **Griezelige creaties maken** – De kleuters mogen hun eigen griezelige creaties bouwen\, zoals glow-in-the-dark monsters\, vampiertanden en spookachtige lichtjes. Zo hebben ze iets unieks om mee naar huis te nemen! 🕷️✨ \n🌍 **Samenwerken en ontdekken** – Samen leren we over vriendschap\, moed en teamwork terwijl we deze griezelwereld ontdekken. We spelen samen\, helpen elkaar en maken veel plezier in een gezellige\, veilige omgeving. 🧛‍♂️🤝 \nLaat jouw kleine griezelfan meedoen aan het **Griezelfabriek Kamp** en geef ze een onvergetelijke ervaring vol spannende verhalen\, monsters\, en hun eigen griezel-robot! 🎃👻✨ \nSTEM (science\, technology\, engineering\, mathematics) van wetenschappen tot techniek. \nEr is geen opvang voor of na het kamp\, met uitzondering van de Bouwrakkerskampen\, waar opvang wél voorzien is. Bedankt om hiermee rekening te houden!”
URL:https://www.pxl-stem-academy.be/event/herfstvakantie-26-stem-voor-kleuters-de-griezelfabriek-kleuter-1e-leerjaar-vanaf-4-jaar-6-jaar/
LOCATION:PXL STEM Academy\, Kempische Kaai 85\, Hasselt\, Limburg\, 3500\, België
CATEGORIES:Vakantie
ATTACH;FMTTYPE=image/jpeg:https://www.pxl-stem-academy.be/wp-content/uploads/2024/12/Griezelfabriek.jpg
ORGANIZER;CN="PXL Stem Academy":MAILTO:stem-academy@pxl.be
END:VEVENT
END:VCALENDAR